BEGIN:VCALENDAR
VERSION:2.0
PRODID:-//Stratis iCal API//FR
CALSCALE:GREGORIAN
X-WR-CALNAME:ATELIERS NUMÉRIQUES - MAI / JUIN 2026
BEGIN:VEVENT
UID:event-24413
SUMMARY:ATELIERS NUMÉRIQUES - MAI / JUIN 2026
DESCRIPTION:La Communauté Urbaine Le Havre Seine Métropole vous propose des ateliers numériques d'1h30 GRATUITS sur inscription auprès de Pascaline Collin : 06 75 84 48 20
DTSTAMP:20260420T123701Z
DTSTART:20260512T120000Z
DTEND:20260623T133000Z
STATUS:CONFIRMED
SEQUENCE:1
BEGIN:VALARM
TRIGGER:-PT30M
DESCRIPTION:ATELIERS NUMÉRIQUES - MAI / JUIN 2026
ACTION:DISPLAY
END:VALARM
END:VEVENT
END:VCALENDAR