BEGIN:VCALENDAR
VERSION:2.0
PRODID:-//Stratis iCal API//FR
CALSCALE:GREGORIAN
X-WR-CALNAME:RASSEMBLEMENT DE SAINT-ROMAIN - MAI 2026
BEGIN:VEVENT
UID:event-24412
SUMMARY:RASSEMBLEMENT DE SAINT-ROMAIN - MAI 2026
DESCRIPTION:L'association Rassemblement de Saint-Romain donne rendez-vous aux passionnés d'automobiles et de motos anciennes !
DTSTAMP:20260420T123335Z
DTSTART:20260517T073000Z
DTEND:20260517T100000Z
STATUS:CONFIRMED
SEQUENCE:1
BEGIN:VALARM
TRIGGER:-PT30M
DESCRIPTION:RASSEMBLEMENT DE SAINT-ROMAIN - MAI 2026
ACTION:DISPLAY
END:VALARM
END:VEVENT
END:VCALENDAR