BEGIN:VCALENDAR
VERSION:2.0
PRODID:-//Stratis iCal API//FR
CALSCALE:GREGORIAN
X-WR-CALNAME:AMICALE LA PLUS BELLE ÉPOQUE - MAI 2026
BEGIN:VEVENT
UID:event-24411
SUMMARY:AMICALE LA PLUS BELLE ÉPOQUE - MAI 2026
DESCRIPTION:L'Amicale La Plus Belle Époque vous propose une exposition de voitures anciennes !
DTSTAMP:20260420T123046Z
DTSTART:20260517T073000Z
DTEND:20260517T103000Z
STATUS:CONFIRMED
SEQUENCE:1
BEGIN:VALARM
TRIGGER:-PT30M
DESCRIPTION:AMICALE LA PLUS BELLE ÉPOQUE - MAI 2026
ACTION:DISPLAY
END:VALARM
END:VEVENT
END:VCALENDAR