BEGIN:VCALENDAR
VERSION:2.0
PRODID:-//Stratis iCal API//FR
CALSCALE:GREGORIAN
X-WR-CALNAME:APRÈ-MIDI JEUX - EXCELSIOR
BEGIN:VEVENT
UID:event-24409
SUMMARY:APRÈ-MIDI JEUX - EXCELSIOR
DESCRIPTION:L'association Excelsior vous invite à un moment de partage et de bonne humeur lors de son Après-Midi Jeux.
DTSTAMP:20260420T083735Z
DTSTART:20260517T120000Z
DTEND:20260517T120000Z
STATUS:CONFIRMED
SEQUENCE:1
BEGIN:VALARM
TRIGGER:-PT30M
DESCRIPTION:APRÈ-MIDI JEUX - EXCELSIOR
ACTION:DISPLAY
END:VALARM
END:VEVENT
END:VCALENDAR