BEGIN:VCALENDAR
VERSION:2.0
PRODID:-//Stratis iCal API//FR
CALSCALE:GREGORIAN
X-WR-CALNAME:CINÉ SEINE - MAI 2026
BEGIN:VEVENT
UID:event-24406
SUMMARY:CINÉ SEINE - MAI 2026
DESCRIPTION:Le mardi 5 mai  le SiRoCo vous accueille pour deux séances de cinéma
DTSTAMP:20260420T083005Z
DTSTART:20260505T160000Z
DTEND:20260505T183000Z
STATUS:CONFIRMED
SEQUENCE:1
BEGIN:VALARM
TRIGGER:-PT30M
DESCRIPTION:CINÉ SEINE - MAI 2026
ACTION:DISPLAY
END:VALARM
END:VEVENT
END:VCALENDAR