BEGIN:VCALENDAR
VERSION:2.0
PRODID:-//Stratis iCal API//FR
CALSCALE:GREGORIAN
X-WR-CALNAME:GROMESNIL DANS TOUS SES ÉTATS
BEGIN:VEVENT
UID:event-24405
SUMMARY:GROMESNIL DANS TOUS SES ÉTATS
DESCRIPTION:Événement organisé par la Communauté Urbaine Le Havre Seine Métropole
DTSTAMP:20260420T082207Z
DTSTART:20260509T080000Z
DTEND:20260510T160000Z
STATUS:CONFIRMED
SEQUENCE:1
BEGIN:VALARM
TRIGGER:-PT30M
DESCRIPTION:GROMESNIL DANS TOUS SES ÉTATS
ACTION:DISPLAY
END:VALARM
END:VEVENT
END:VCALENDAR